BEGIN:VCALENDAR
VERSION:2.0
PRODID:-//Visit Ål - ECPv6.15.20//NONSGML v1.0//EN
CALSCALE:GREGORIAN
METHOD:PUBLISH
X-WR-CALNAME:Visit Ål
X-ORIGINAL-URL:https://www.visital.no/en
X-WR-CALDESC:Events for Visit Ål
REFRESH-INTERVAL;VALUE=DURATION:PT1H
X-Robots-Tag:noindex
X-PUBLISHED-TTL:PT1H
BEGIN:VTIMEZONE
TZID:Europe/Oslo
BEGIN:DAYLIGHT
TZOFFSETFROM:+0100
TZOFFSETTO:+0200
TZNAME:CEST
DTSTART:20250330T010000
END:DAYLIGHT
BEGIN:STANDARD
TZOFFSETFROM:+0200
TZOFFSETTO:+0100
TZNAME:CET
DTSTART:20251026T010000
END:STANDARD
BEGIN:DAYLIGHT
TZOFFSETFROM:+0100
TZOFFSETTO:+0200
TZNAME:CEST
DTSTART:20260329T010000
END:DAYLIGHT
BEGIN:STANDARD
TZOFFSETFROM:+0200
TZOFFSETTO:+0100
TZNAME:CET
DTSTART:20261025T010000
END:STANDARD
BEGIN:DAYLIGHT
TZOFFSETFROM:+0100
TZOFFSETTO:+0200
TZNAME:CEST
DTSTART:20270328T010000
END:DAYLIGHT
BEGIN:STANDARD
TZOFFSETFROM:+0200
TZOFFSETTO:+0100
TZNAME:CET
DTSTART:20271031T010000
END:STANDARD
END:VTIMEZONE
BEGIN:VEVENT
DTSTART;TZID=Europe/Oslo:20260427T190000
DTEND;TZID=Europe/Oslo:20260427T200000
DTSTAMP:20260421T110450
CREATED:20260202T225820Z
LAST-MODIFIED:20260202T225820Z
UID:4857-1777316400-1777320000@www.visital.no
SUMMARY:De siste av Lars Otterstedt
DESCRIPTION:I forestillingen møter vi en verden der den globale økonomien har brutt sammen\, og en ny samfunnsorden forsøker å skape stabilitet ved å eliminere alle kostnader. Løsningen er et nytt medisinsk botemiddel\, utviklet for mennesker med fysiske og mentale funksjonshemminger. Alle får seks måneder på seg til frivillig å ta en kapsel som skal endre dem\, før droner sprer medisinen i gassform. I dag er den siste dagen. \nOver hele verden blir kapslene tatt. Rullestolbrukere begynner å gå\, blinde ser og døve hører. For mange døve blir valget en indre kamp. Å ta kapselen betyr å bli en del av den nye verden\, men også å miste språk\, kultur og identitet. \nPå verdens siste kulturfestival for døve bestemmer fire unge mennesker seg for å flykte fra tvangsmedisineringen. De stjeler en gammel lastebil\, men ender strandet i en grøft i utkanten av en skog. Spørsmålene tårner seg opp. Hvorfor flykter akkurat disse fire sammen. Hva binder dem til hverandre. Er det en sviker blant dem. Vil de nå fram til den gamle kvinnen som kan skjule dem\, eller vil dronene finne dem og fullføre utslettelsen av døve i verden. \nDe siste skildrer en form for undertrykking som ikke alltid er synlig. En snikende og subtil undertrykking som skjuler seg bak velvilje\, effektivitet og det som fremstilles som fellesskapets beste. \nForestillingen er skrevet av Lars Otterstedt og regissert av Josette Bushell-Mingo. Dramaturg er Mari Moen. Manuset er utviklet med støtte fra Dramatikkens hus.
URL:https://www.visital.no/en/arrangementer/de-siste-av-lars-otterstedt/
LOCATION:Ål Kulturhus\, Myren 40\, Ål\, Buskerud\, 3570\, Norway
CATEGORIES:Scenekunst
ATTACH;FMTTYPE=image/jpeg:https://www.visital.no/wp-content/uploads/2026/02/186866.webp
ORGANIZER;CN="Sprang Scene":MAILTO:sprang@aal.kommune.no
END:VEVENT
END:VCALENDAR