BEGIN:VCALENDAR
VERSION:2.0
PRODID:-//Visit Ål - ECPv6.15.20//NONSGML v1.0//EN
CALSCALE:GREGORIAN
METHOD:PUBLISH
X-WR-CALNAME:Visit Ål
X-ORIGINAL-URL:https://www.visital.no/en
X-WR-CALDESC:Events for Visit Ål
REFRESH-INTERVAL;VALUE=DURATION:PT1H
X-Robots-Tag:noindex
X-PUBLISHED-TTL:PT1H
BEGIN:VTIMEZONE
TZID:Europe/Oslo
BEGIN:DAYLIGHT
TZOFFSETFROM:+0100
TZOFFSETTO:+0200
TZNAME:CEST
DTSTART:20250330T010000
END:DAYLIGHT
BEGIN:STANDARD
TZOFFSETFROM:+0200
TZOFFSETTO:+0100
TZNAME:CET
DTSTART:20251026T010000
END:STANDARD
BEGIN:DAYLIGHT
TZOFFSETFROM:+0100
TZOFFSETTO:+0200
TZNAME:CEST
DTSTART:20260329T010000
END:DAYLIGHT
BEGIN:STANDARD
TZOFFSETFROM:+0200
TZOFFSETTO:+0100
TZNAME:CET
DTSTART:20261025T010000
END:STANDARD
BEGIN:DAYLIGHT
TZOFFSETFROM:+0100
TZOFFSETTO:+0200
TZNAME:CEST
DTSTART:20270328T010000
END:DAYLIGHT
BEGIN:STANDARD
TZOFFSETFROM:+0200
TZOFFSETTO:+0100
TZNAME:CET
DTSTART:20271031T010000
END:STANDARD
END:VTIMEZONE
BEGIN:VEVENT
DTSTART;TZID=Europe/Oslo:20260517T130000
DTEND;TZID=Europe/Oslo:20260518T010000
DTSTAMP:20260421T142349
CREATED:20260303T153228Z
LAST-MODIFIED:20260303T153228Z
UID:4960-1779022800-1779066000@www.visital.no
SUMMARY:17. mai på Tanken-takterrassen
DESCRIPTION:Baren åpner klokken 13:00\, med inngang på langsiden av bygget mot elva. Fra klokken 14:00 til 20:00 serveres grillmat\, bobler\, is og brus. \nDet legges opp til fire bordsettinger i løpet av ettermiddagen:\n14:00–15:3015:30–17:0017:00–18:3018:30–20:00 \nVed booking av bord velger man hvor mange barn og voksne som kommer. Dersom det skulle bli regn\, flyttes serveringen inn. Det er begrenset med plasser\, så det anbefales å bestille bord tidlig dersom man ønsker mat. \nFra klokken 20:00 blir det 17. mai-fest med 20 års aldersgrense. Kvelden avsluttes klokken 01:00.
URL:https://www.visital.no/en/arrangementer/17-mai-pa-tanken-takterrassen/
LOCATION:Tanken Arena\, Kuluvegen 1\, Ål\, Buskerud\, 3570\, Norway
CATEGORIES:Fest,Sosial Møteplass
ATTACH;FMTTYPE=image/avif:https://www.visital.no/wp-content/uploads/2026/03/b39b3f-923b83f0b2de4e7bae6c9eefa57518cfmv2.avif
ORGANIZER;CN="Tanken Arena":MAILTO:post@tankencoworking.no
END:VEVENT
END:VCALENDAR