BEGIN:VCALENDAR
VERSION:2.0
PRODID:-//Visit Ål - ECPv6.15.20//NONSGML v1.0//EN
CALSCALE:GREGORIAN
METHOD:PUBLISH
X-WR-CALNAME:Visit Ål
X-ORIGINAL-URL:https://www.visital.no
X-WR-CALDESC:Arrangement for Visit Ål
REFRESH-INTERVAL;VALUE=DURATION:PT1H
X-Robots-Tag:noindex
X-PUBLISHED-TTL:PT1H
BEGIN:VTIMEZONE
TZID:Europe/Oslo
BEGIN:DAYLIGHT
TZOFFSETFROM:+0100
TZOFFSETTO:+0200
TZNAME:CEST
DTSTART:20250330T010000
END:DAYLIGHT
BEGIN:STANDARD
TZOFFSETFROM:+0200
TZOFFSETTO:+0100
TZNAME:CET
DTSTART:20251026T010000
END:STANDARD
BEGIN:DAYLIGHT
TZOFFSETFROM:+0100
TZOFFSETTO:+0200
TZNAME:CEST
DTSTART:20260329T010000
END:DAYLIGHT
BEGIN:STANDARD
TZOFFSETFROM:+0200
TZOFFSETTO:+0100
TZNAME:CET
DTSTART:20261025T010000
END:STANDARD
BEGIN:DAYLIGHT
TZOFFSETFROM:+0100
TZOFFSETTO:+0200
TZNAME:CEST
DTSTART:20270328T010000
END:DAYLIGHT
BEGIN:STANDARD
TZOFFSETFROM:+0200
TZOFFSETTO:+0100
TZNAME:CET
DTSTART:20271031T010000
END:STANDARD
END:VTIMEZONE
BEGIN:VEVENT
DTSTART;TZID=Europe/Oslo:20260808T170000
DTEND;TZID=Europe/Oslo:20260809T020000
DTSTAMP:20260421T101916
CREATED:20260326T124542Z
LAST-MODIFIED:20260326T124542Z
UID:5225-1786208400-1786240800@www.visital.no
SUMMARY:Vorspiel & Nachspiel - Hellbillies på heimebane
DESCRIPTION:Tanken Arena rigges til med vorspiel før konserten og nachspiel etterpå. Dørene åpner klokken 17.00\, og det blir mulig å komme tidlig for å nyte stemningen og noe godt i glasset før konserten i Hallingdal Feriepark. \nEtter konserten fortsetter kvelden med DJ-trioen Die With Your Boots On\, som spiller fra klokken 23.00 til 02.00. De tar med egne vinylfavoritter og spiller norske og amerikanske artister\, både nytt og gammelt\, kjent og ukjent. \nTanken Arena ligger i gangavstand til Hallingdal Feriepark\, og arrangementet er åpent også for dem som ikke skal på Hellbillies-konserten. Aldersgrensen er 20 år. Inngang koster 200 kroner ved forhåndskjøp. Pris i døra er 300 kroner\, og det blir ikke dørsalg dersom forhåndssalget er utsolgt.
URL:https://www.visital.no/arrangementer/vorspiel-nachspiel-hellbillies-pa-heimebane/
LOCATION:Tanken Arena\, Kuluvegen 1\, Ål\, Buskerud\, 3570\, Norway
CATEGORIES:Sosial Møteplass
ATTACH;FMTTYPE=image/avif:https://www.visital.no/wp-content/uploads/2026/03/b39b3f-65fa679331b045eca0066df5d88f29f9mv2.avif
ORGANIZER;CN="Tanken Arena":MAILTO:post@tankencoworking.no
END:VEVENT
END:VCALENDAR