BEGIN:VCALENDAR
VERSION:2.0
PRODID:-//Visit Ål - ECPv6.15.20//NONSGML v1.0//EN
CALSCALE:GREGORIAN
METHOD:PUBLISH
X-WR-CALNAME:Visit Ål
X-ORIGINAL-URL:https://www.visital.no
X-WR-CALDESC:Arrangement for Visit Ål
REFRESH-INTERVAL;VALUE=DURATION:PT1H
X-Robots-Tag:noindex
X-PUBLISHED-TTL:PT1H
BEGIN:VTIMEZONE
TZID:Europe/Oslo
BEGIN:DAYLIGHT
TZOFFSETFROM:+0100
TZOFFSETTO:+0200
TZNAME:CEST
DTSTART:20250330T010000
END:DAYLIGHT
BEGIN:STANDARD
TZOFFSETFROM:+0200
TZOFFSETTO:+0100
TZNAME:CET
DTSTART:20251026T010000
END:STANDARD
BEGIN:DAYLIGHT
TZOFFSETFROM:+0100
TZOFFSETTO:+0200
TZNAME:CEST
DTSTART:20260329T010000
END:DAYLIGHT
BEGIN:STANDARD
TZOFFSETFROM:+0200
TZOFFSETTO:+0100
TZNAME:CET
DTSTART:20261025T010000
END:STANDARD
BEGIN:DAYLIGHT
TZOFFSETFROM:+0100
TZOFFSETTO:+0200
TZNAME:CEST
DTSTART:20270328T010000
END:DAYLIGHT
BEGIN:STANDARD
TZOFFSETFROM:+0200
TZOFFSETTO:+0100
TZNAME:CET
DTSTART:20271031T010000
END:STANDARD
END:VTIMEZONE
BEGIN:VEVENT
DTSTART;TZID=Europe/Oslo:20260510T140000
DTEND;TZID=Europe/Oslo:20260510T153000
DTSTAMP:20260421T103329
CREATED:20260204T101734Z
LAST-MODIFIED:20260204T101734Z
UID:4870-1778421600-1778427000@www.visital.no
SUMMARY:Alice i Eventyrland
DESCRIPTION:Alice i Eventyrland er en nyskrevet\, fargerik og musikalsk tolkning av den klassiske historien. Forestillingen kombinerer teater\, dans og sang i et lekent og tankevekkende univers\, skapt av unge kunstnere ved Ål kulturskole. \nNesten 200 elever står på scenen og gir liv til fortellingen gjennom uttrykk\, bevegelse og musikk. Medvirkende er teater elever\, danse elever og sang elever fra kulturskolen\, som sammen skaper en helhetlig og engasjerende forestilling for publikum i alle aldre. \nRegi og manus er ved Ida Kristin Tovstaul. Koreografi er ved Marte Medgard Skår. Songpedagog er Marit Sehl. Produsent er Iris Almås Tangeraas. Arrangementet er ved Ål kulturskole. Foto er tatt av Terje Skår.
URL:https://www.visital.no/arrangementer/alice-i-eventyrland/
LOCATION:Ål Kulturhus\, Myren 40\, Ål\, Buskerud\, 3570\, Norway
CATEGORIES:Scenekunst
ATTACH;FMTTYPE=image/jpeg:https://www.visital.no/wp-content/uploads/2026/02/186869.webp
ORGANIZER;CN="%C3%85l kulurskule":MAILTO:kulturskulen@aal.kommune.no
END:VEVENT
END:VCALENDAR