BEGIN:VCALENDAR
VERSION:2.0
PRODID:-//Visit Ål - ECPv6.15.20//NONSGML v1.0//EN
CALSCALE:GREGORIAN
METHOD:PUBLISH
X-WR-CALNAME:Visit Ål
X-ORIGINAL-URL:https://www.visital.no
X-WR-CALDESC:Arrangement for Visit Ål
REFRESH-INTERVAL;VALUE=DURATION:PT1H
X-Robots-Tag:noindex
X-PUBLISHED-TTL:PT1H
BEGIN:VTIMEZONE
TZID:Europe/Oslo
BEGIN:DAYLIGHT
TZOFFSETFROM:+0100
TZOFFSETTO:+0200
TZNAME:CEST
DTSTART:20250330T010000
END:DAYLIGHT
BEGIN:STANDARD
TZOFFSETFROM:+0200
TZOFFSETTO:+0100
TZNAME:CET
DTSTART:20251026T010000
END:STANDARD
BEGIN:DAYLIGHT
TZOFFSETFROM:+0100
TZOFFSETTO:+0200
TZNAME:CEST
DTSTART:20260329T010000
END:DAYLIGHT
BEGIN:STANDARD
TZOFFSETFROM:+0200
TZOFFSETTO:+0100
TZNAME:CET
DTSTART:20261025T010000
END:STANDARD
BEGIN:DAYLIGHT
TZOFFSETFROM:+0100
TZOFFSETTO:+0200
TZNAME:CEST
DTSTART:20270328T010000
END:DAYLIGHT
BEGIN:STANDARD
TZOFFSETFROM:+0200
TZOFFSETTO:+0100
TZNAME:CET
DTSTART:20271031T010000
END:STANDARD
END:VTIMEZONE
BEGIN:VEVENT
DTSTART;TZID=Europe/Oslo:20260725T100000
DTEND;TZID=Europe/Oslo:20260725T160000
DTSTAMP:20260421T101742
CREATED:20260326T131457Z
LAST-MODIFIED:20260326T131457Z
UID:2652-1784973600-1784995200@www.visital.no
SUMMARY:Ål-dagen 2026
DESCRIPTION:Dette kan du glede deg til: \n\n\nMorsomme barneaktiviteter hele dagen \n\n\nLokale matboder og håndverk fra nærområdet \n\n\nMusikk og underholdning i gatene \n\n\n>> Vil du stille med egen bod? Send oss gjerne en e-post til post@alutvikling.no. \nVi gleder oss til å se deg på Ål-dagen!
URL:https://www.visital.no/arrangementer/al-dagen-2026/
LOCATION:Ålingen kjøpesenter\, Myren 19\, Ål\, Buskerud\, 3570\, Norway
CATEGORIES:Mat & Drikke,Sosial Møteplass
ATTACH;FMTTYPE=image/jpeg:https://www.visital.no/wp-content/uploads/2025/09/dji-mimo-20250726-121240-20250726121241-1754475455512-photo-scaled-e1758806544531.webp
ORGANIZER;CN="Visit %C3%85l / %C3%85l Utvikling":MAILTO:dl@alutvikling.no
END:VEVENT
END:VCALENDAR